BEGIN:VCALENDAR
VERSION:2.0
PRODID:-//Servizio per la Pastorale Giovanile e Vocazionale - ECPv6.0.0.1//NONSGML v1.0//EN
CALSCALE:GREGORIAN
METHOD:PUBLISH
X-ORIGINAL-URL:https://www.pgivrea.it
X-WR-CALDESC:Eventi per Servizio per la Pastorale Giovanile e Vocazionale
REFRESH-INTERVAL;VALUE=DURATION:PT1H
X-Robots-Tag:noindex
X-PUBLISHED-TTL:PT1H
BEGIN:VTIMEZONE
TZID:Europe/Rome
BEGIN:DAYLIGHT
TZOFFSETFROM:+0100
TZOFFSETTO:+0200
TZNAME:CEST
DTSTART:20250330T010000
END:DAYLIGHT
BEGIN:STANDARD
TZOFFSETFROM:+0200
TZOFFSETTO:+0100
TZNAME:CET
DTSTART:20251026T010000
END:STANDARD
BEGIN:DAYLIGHT
TZOFFSETFROM:+0100
TZOFFSETTO:+0200
TZNAME:CEST
DTSTART:20260329T010000
END:DAYLIGHT
BEGIN:STANDARD
TZOFFSETFROM:+0200
TZOFFSETTO:+0100
TZNAME:CET
DTSTART:20261025T010000
END:STANDARD
END:VTIMEZONE
BEGIN:VEVENT
DTSTART;TZID=Europe/Rome:20251003T200000
DTEND;TZID=Europe/Rome:20251003T223000
DTSTAMP:20260425T125115
CREATED:20250926T200014Z
LAST-MODIFIED:20250926T200014Z
UID:13808-1759521600-1759530600@www.pgivrea.it
SUMMARY:APRI GLI OCCHI - Il cieco nato (Gv 9)
DESCRIPTION:Un viaggio alla scoperta della tua verità attraverso il capitolo 9 del Vangelo di Giovanni \nIvrea | Tempio dell’Immacolata dei Miracoli\ndalle 20 alle 22.30 \n\n3 ott 2025 Il cieco nato (Gv 9)\n14 nov 2025 Con il fango mi ha toccato (Gv 9\, 6-7)\n12 dic 2025 Va a Siloe e lavati (Gv 9\, 7-13) 1^ parte\n23 gen 2026 Va a Siloe e lavati (Gv 9\, 7-13) 2^ parte\n20 feb 2026 Non è lui ma gli somiglia (Gv 9\, 8-12)\n13 mar 2026 Ha l’età parlerà da sé (Gv 9\, 18-23)\n17 apr 2026 Tu sei suo discepolo\, noi siamo discepoli di Mosè (Gv 9\, 24-34)\n15 mag 2026 Si prostrò dinanzi a lui (Gv 9\, 35-41)\n1-4 set 2026 Esercizi spirituali predicati dal Vescovo Daniele presso il Monastero di Pra d’Mill\n\nAperitivo di benvenuto\nLettura del testo\, catechesi e istruzione\nAdorazione e Preghiera personale\nCondivisione nei gruppi guidati\nConclusione \nItinerario vocazionale dedicato ai giovani dai 16 ai 35 anni \n\n 
URL:https://www.pgivrea.it/eventi/apri-gli-occhi-il-cieco-nato-gv-9/
LOCATION:Tempio dell’Immacolata dei Miracoli\, Via Varmondo\, 12\, Ivrea\, 10015\, Italia
CATEGORIES:Apri gli occhi,Ufficio
ATTACH;FMTTYPE=image/jpeg:https://www.pgivrea.it/wp-content/uploads/2025/09/Aprigliocchi_logo-01.jpg
END:VEVENT
BEGIN:VEVENT
DTSTART;TZID=Europe/Rome:20251114T200000
DTEND;TZID=Europe/Rome:20251114T223000
DTSTAMP:20260425T125115
CREATED:20250926T200711Z
LAST-MODIFIED:20250926T200711Z
UID:13820-1763150400-1763159400@www.pgivrea.it
SUMMARY:APRI GLI OCCHI - Con il fango mi ha toccato (Gv 9\, 6-7)
DESCRIPTION:Un viaggio alla scoperta della tua verità attraverso il capitolo 9 del Vangelo di Giovanni \nIvrea | Tempio dell’Immacolata dei Miracoli\ndalle 20 alle 22.30 \n\n3 ott 2025 Il cieco nato (Gv 9)\n14 nov 2025 Con il fango mi ha toccato (Gv 9\, 6-7)\n12 dic 2025 Va a Siloe e lavati (Gv 9\, 7-13) 1^ parte\n23 gen 2026 Va a Siloe e lavati (Gv 9\, 7-13) 2^ parte\n20 feb 2026 Non è lui ma gli somiglia (Gv 9\, 8-12)\n13 mar 2026 Ha l’età parlerà da sé (Gv 9\, 18-23)\n17 apr 2026 Tu sei suo discepolo\, noi siamo discepoli di Mosè (Gv 9\, 24-34)\n15 mag 2026 Si prostrò dinanzi a lui (Gv 9\, 35-41)\n1-4 set 2026 Esercizi spirituali predicati dal Vescovo Daniele presso il Monastero di Pra d’Mill\n\nAperitivo di benvenuto\nLettura del testo\, catechesi e istruzione\nAdorazione e Preghiera personale\nCondivisione nei gruppi guidati\nConclusione \nItinerario vocazionale dedicato ai giovani dai 16 ai 35 anni \n\n 
URL:https://www.pgivrea.it/eventi/apri-gli-occhi-con-il-fango-mi-ha-toccato-gv-9-6-7/
LOCATION:Tempio dell’Immacolata dei Miracoli\, Via Varmondo\, 12\, Ivrea\, 10015\, Italia
CATEGORIES:Apri gli occhi,Ufficio
ATTACH;FMTTYPE=image/jpeg:https://www.pgivrea.it/wp-content/uploads/2025/09/Aprigliocchi_logo-01.jpg
END:VEVENT
BEGIN:VEVENT
DTSTART;TZID=Europe/Rome:20251212T200000
DTEND;TZID=Europe/Rome:20251212T223000
DTSTAMP:20260425T125115
CREATED:20250928T093303Z
LAST-MODIFIED:20250928T093303Z
UID:13834-1765569600-1765578600@www.pgivrea.it
SUMMARY:APRI GLI OCCHI - Va a Siloe e lavati (Gv 9\, 7-13) 1^parte
DESCRIPTION:Un viaggio alla scoperta della tua verità attraverso il capitolo 9 del Vangelo di Giovanni \nIvrea | Tempio dell’Immacolata dei Miracoli\ndalle 20 alle 22.30 \n\n3 ott 2025 Il cieco nato (Gv 9)\n14 nov 2025 Con il fango mi ha toccato (Gv 9\, 6-7)\n12 dic 2025 Va a Siloe e lavati (Gv 9\, 7-13) 1^ parte\n23 gen 2026 Va a Siloe e lavati (Gv 9\, 7-13) 2^ parte\n20 feb 2026 Non è lui ma gli somiglia (Gv 9\, 8-12)\n13 mar 2026 Ha l’età parlerà da sé (Gv 9\, 18-23)\n17 apr 2026 Tu sei suo discepolo\, noi siamo discepoli di Mosè (Gv 9\, 24-34)\n15 mag 2026 Si prostrò dinanzi a lui (Gv 9\, 35-41)\n1-4 set 2026 Esercizi spirituali predicati dal Vescovo Daniele presso il Monastero di Pra d’Mill\n\nAperitivo di benvenuto\nLettura del testo\, catechesi e istruzione\nAdorazione e Preghiera personale\nCondivisione nei gruppi guidati\nConclusione \nItinerario vocazionale dedicato ai giovani dai 16 ai 35 anni \n\n 
URL:https://www.pgivrea.it/eventi/apri-gli-occhi-va-a-siloe-e-lavati-gv-9-7-13-1parte/
LOCATION:Tempio dell’Immacolata dei Miracoli\, Via Varmondo\, 12\, Ivrea\, 10015\, Italia
CATEGORIES:Apri gli occhi,Ufficio
ATTACH;FMTTYPE=image/jpeg:https://www.pgivrea.it/wp-content/uploads/2025/09/Aprigliocchi_logo-01.jpg
END:VEVENT
BEGIN:VEVENT
DTSTART;TZID=Europe/Rome:20260123T200000
DTEND;TZID=Europe/Rome:20260123T223000
DTSTAMP:20260425T125115
CREATED:20250928T093233Z
LAST-MODIFIED:20250928T093233Z
UID:13837-1769198400-1769207400@www.pgivrea.it
SUMMARY:APRI GLI OCCHI - Va a Siloe e lavati (Gv 9\, 7-13) 2^parte
DESCRIPTION:Un viaggio alla scoperta della tua verità attraverso il capitolo 9 del Vangelo di Giovanni \nIvrea | Tempio dell’Immacolata dei Miracoli\ndalle 20 alle 22.30 \n\n3 ott 2025 Il cieco nato (Gv 9)\n14 nov 2025 Con il fango mi ha toccato (Gv 9\, 6-7)\n12 dic 2025 Va a Siloe e lavati (Gv 9\, 7-13) 1^ parte\n23 gen 2026 Va a Siloe e lavati (Gv 9\, 7-13) 2^ parte\n20 feb 2026 Non è lui ma gli somiglia (Gv 9\, 8-12)\n13 mar 2026 Ha l’età parlerà da sé (Gv 9\, 18-23)\n17 apr 2026 Tu sei suo discepolo\, noi siamo discepoli di Mosè (Gv 9\, 24-34)\n15 mag 2026 Si prostrò dinanzi a lui (Gv 9\, 35-41)\n1-4 set 2026 Esercizi spirituali predicati dal Vescovo Daniele presso il Monastero di Pra d’Mill\n\nAperitivo di benvenuto\nLettura del testo\, catechesi e istruzione\nAdorazione e Preghiera personale\nCondivisione nei gruppi guidati\nConclusione \nItinerario vocazionale dedicato ai giovani dai 16 ai 35 anni \n\n 
URL:https://www.pgivrea.it/eventi/apri-gli-occhi-va-a-siloe-e-lavati-gv-9-7-13-2parte/
LOCATION:Tempio dell’Immacolata dei Miracoli\, Via Varmondo\, 12\, Ivrea\, 10015\, Italia
CATEGORIES:Apri gli occhi,Ufficio
ATTACH;FMTTYPE=image/jpeg:https://www.pgivrea.it/wp-content/uploads/2025/09/Aprigliocchi_logo-01.jpg
END:VEVENT
BEGIN:VEVENT
DTSTART;TZID=Europe/Rome:20260220T200000
DTEND;TZID=Europe/Rome:20260220T223000
DTSTAMP:20260425T125115
CREATED:20250928T093218Z
LAST-MODIFIED:20250928T093218Z
UID:13839-1771617600-1771626600@www.pgivrea.it
SUMMARY:APRI GLI OCCHI - Non è lui ma gli somiglia (Gv 9\, 8-12)
DESCRIPTION:Un viaggio alla scoperta della tua verità attraverso il capitolo 9 del Vangelo di Giovanni \nIvrea | Tempio dell’Immacolata dei Miracoli\ndalle 20 alle 22.30 \n\n3 ott 2025 Il cieco nato (Gv 9)\n14 nov 2025 Con il fango mi ha toccato (Gv 9\, 6-7)\n12 dic 2025 Va a Siloe e lavati (Gv 9\, 7-13) 1^ parte\n23 gen 2026 Va a Siloe e lavati (Gv 9\, 7-13) 2^ parte\n20 feb 2026 Non è lui ma gli somiglia (Gv 9\, 8-12)\n13 mar 2026 Ha l’età parlerà da sé (Gv 9\, 18-23)\n17 apr 2026 Tu sei suo discepolo\, noi siamo discepoli di Mosè (Gv 9\, 24-34)\n15 mag 2026 Si prostrò dinanzi a lui (Gv 9\, 35-41)\n1-4 set 2026 Esercizi spirituali predicati dal Vescovo Daniele presso il Monastero di Pra d’Mill\n\nAperitivo di benvenuto\nLettura del testo\, catechesi e istruzione\nAdorazione e Preghiera personale\nCondivisione nei gruppi guidati\nConclusione \nItinerario vocazionale dedicato ai giovani dai 16 ai 35 anni \n\n 
URL:https://www.pgivrea.it/eventi/apri-gli-occhi-non-e-lui-ma-gli-somiglia-gv-9-8-12/
LOCATION:Tempio dell’Immacolata dei Miracoli\, Via Varmondo\, 12\, Ivrea\, 10015\, Italia
CATEGORIES:Apri gli occhi,Ufficio
ATTACH;FMTTYPE=image/jpeg:https://www.pgivrea.it/wp-content/uploads/2025/09/Aprigliocchi_logo-01.jpg
END:VEVENT
BEGIN:VEVENT
DTSTART;TZID=Europe/Rome:20260313T200000
DTEND;TZID=Europe/Rome:20260313T223000
DTSTAMP:20260425T125115
CREATED:20250928T093149Z
LAST-MODIFIED:20250928T093149Z
UID:13841-1773432000-1773441000@www.pgivrea.it
SUMMARY:APRI GLI OCCHI - Ha l'età parlerà da sé (Gv 9\, 18-23)
DESCRIPTION:Un viaggio alla scoperta della tua verità attraverso il capitolo 9 del Vangelo di Giovanni \nIvrea | Tempio dell’Immacolata dei Miracoli\ndalle 20 alle 22.30 \n\n3 ott 2025 Il cieco nato (Gv 9)\n14 nov 2025 Con il fango mi ha toccato (Gv 9\, 6-7)\n12 dic 2025 Va a Siloe e lavati (Gv 9\, 7-13) 1^ parte\n23 gen 2026 Va a Siloe e lavati (Gv 9\, 7-13) 2^ parte\n20 feb 2026 Non è lui ma gli somiglia (Gv 9\, 8-12)\n13 mar 2026 Ha l’età parlerà da sé (Gv 9\, 18-23)\n17 apr 2026 Tu sei suo discepolo\, noi siamo discepoli di Mosè (Gv 9\, 24-34)\n15 mag 2026 Si prostrò dinanzi a lui (Gv 9\, 35-41)\n1-4 set 2026 Esercizi spirituali predicati dal Vescovo Daniele presso il Monastero di Pra d’Mill\n\nAperitivo di benvenuto\nLettura del testo\, catechesi e istruzione\nAdorazione e Preghiera personale\nCondivisione nei gruppi guidati\nConclusione \nItinerario vocazionale dedicato ai giovani dai 16 ai 35 anni \n\n 
URL:https://www.pgivrea.it/eventi/apri-gli-occhi-ha-leta-parlera-da-se-gv-9-18-23/
LOCATION:Tempio dell’Immacolata dei Miracoli\, Via Varmondo\, 12\, Ivrea\, 10015\, Italia
CATEGORIES:Apri gli occhi,Ufficio
ATTACH;FMTTYPE=image/jpeg:https://www.pgivrea.it/wp-content/uploads/2025/09/Aprigliocchi_logo-01.jpg
END:VEVENT
BEGIN:VEVENT
DTSTART;TZID=Europe/Rome:20260417T200000
DTEND;TZID=Europe/Rome:20260417T223000
DTSTAMP:20260425T125115
CREATED:20250928T093120Z
LAST-MODIFIED:20250928T093120Z
UID:13843-1776456000-1776465000@www.pgivrea.it
SUMMARY:APRI GLI OCCHI - Tu sei suo discepolo\, noi siamo discepoli di Mosè (Gv 9\, 24-34)
DESCRIPTION:﻿Un viaggio alla scoperta della tua verità attraverso il capitolo 9 del Vangelo di Giovanni \nIvrea | Tempio dell’Immacolata dei Miracoli\ndalle 20 alle 22.30 \n\n3 ott 2025 Il cieco nato (Gv 9)\n14 nov 2025 Con il fango mi ha toccato (Gv 9\, 6-7)\n12 dic 2025 Va a Siloe e lavati (Gv 9\, 7-13) 1^ parte\n23 gen 2026 Va a Siloe e lavati (Gv 9\, 7-13) 2^ parte\n20 feb 2026 Non è lui ma gli somiglia (Gv 9\, 8-12)\n13 mar 2026 Ha l’età parlerà da sé (Gv 9\, 18-23)\n17 apr 2026 Tu sei suo discepolo\, noi siamo discepoli di Mosè (Gv 9\, 24-34)\n15 mag 2026 Si prostrò dinanzi a lui (Gv 9\, 35-41)\n1-4 set 2026 Esercizi spirituali predicati dal Vescovo Daniele presso il Monastero di Pra d’Mill\n\nAperitivo di benvenuto\nLettura del testo\, catechesi e istruzione\nAdorazione e Preghiera personale\nCondivisione nei gruppi guidati\nConclusione \nItinerario vocazionale dedicato ai giovani dai 16 ai 35 anni \n\n 
URL:https://www.pgivrea.it/eventi/apri-gli-occhi-tu-sei-suo-discepolo-noi-siamo-discepoli-di-mose-gv-9-24-34/
LOCATION:Tempio dell’Immacolata dei Miracoli\, Via Varmondo\, 12\, Ivrea\, 10015\, Italia
CATEGORIES:Apri gli occhi,Ufficio
ATTACH;FMTTYPE=image/jpeg:https://www.pgivrea.it/wp-content/uploads/2025/09/Aprigliocchi_logo-01.jpg
END:VEVENT
BEGIN:VEVENT
DTSTART;TZID=Europe/Rome:20260515T200000
DTEND;TZID=Europe/Rome:20260515T223000
DTSTAMP:20260425T125115
CREATED:20250928T093106Z
LAST-MODIFIED:20250928T093106Z
UID:13846-1778875200-1778884200@www.pgivrea.it
SUMMARY:APRI GLI OCCHI - Si prostrò dinanzi a lui (Gv 9\, 35-41)
DESCRIPTION:Un viaggio alla scoperta della tua verità attraverso il capitolo 9 del Vangelo di Giovanni \nIvrea | Tempio dell’Immacolata dei Miracoli\ndalle 20 alle 22.30 \n\n3 ott 2025 Il cieco nato (Gv 9)\n14 nov 2025 Con il fango mi ha toccato (Gv 9\, 6-7)\n12 dic 2025 Va a Siloe e lavati (Gv 9\, 7-13) 1^ parte\n23 gen 2026 Va a Siloe e lavati (Gv 9\, 7-13) 2^ parte\n20 feb 2026 Non è lui ma gli somiglia (Gv 9\, 8-12)\n13 mar 2026 Ha l’età parlerà da sé (Gv 9\, 18-23)\n17 apr 2026 Tu sei suo discepolo\, noi siamo discepoli di Mosè (Gv 9\, 24-34)\n15 mag 2026 Si prostrò dinanzi a lui (Gv 9\, 35-41)\n1-4 set 2026 Esercizi spirituali predicati dal Vescovo Daniele presso il Monastero di Pra d’Mill\n\nAperitivo di benvenuto\nLettura del testo\, catechesi e istruzione\nAdorazione e Preghiera personale\nCondivisione nei gruppi guidati\nConclusione \nItinerario vocazionale dedicato ai giovani dai 16 ai 35 anni \n\n 
URL:https://www.pgivrea.it/eventi/apri-gli-occhi-si-prostro-dinanzi-a-lui-gv-9-35-41/
LOCATION:Tempio dell’Immacolata dei Miracoli\, Via Varmondo\, 12\, Ivrea\, 10015\, Italia
CATEGORIES:Apri gli occhi,Ufficio
ATTACH;FMTTYPE=image/jpeg:https://www.pgivrea.it/wp-content/uploads/2025/09/Aprigliocchi_logo-01.jpg
END:VEVENT
BEGIN:VEVENT
DTSTART;TZID=Europe/Rome:20260901T200000
DTEND;TZID=Europe/Rome:20260904T223000
DTSTAMP:20260425T125115
CREATED:20250927T140745Z
LAST-MODIFIED:20250928T093049Z
UID:13848-1788292800-1788561000@www.pgivrea.it
SUMMARY:APRI GLI OCCHI - Esercizi spirituali a Pra d'Mill
DESCRIPTION:Un viaggio alla scoperta della tua verità attraverso il capitolo 9 del Vangelo di Giovanni \nIvrea | Tempio dell’Immacolata dei Miracoli\ndalle 20 alle 22.30 \n\n3 ott 2025 Il cieco nato (Gv 9)\n14 nov 2025 Con il fango mi ha toccato (Gv 9\, 6-7)\n12 dic 2025 Va a Siloe e lavati (Gv 9\, 7-13) 1^ parte\n23 gen 2026 Va a Siloe e lavati (Gv 9\, 7-13) 2^ parte\n20 feb 2026 Non è lui ma gli somiglia (Gv 9\, 8-12)\n13 mar 2026 Ha l’età parlerà da sé (Gv 9\, 18-23)\n17 apr 2026 Tu sei suo discepolo\, noi siamo discepoli di Mosè (Gv 9\, 24-34)\n15 mag 2026 Si prostrò dinanzi a lui (Gv 9\, 35-41)\n1-4 set 2026 Esercizi spirituali predicati dal Vescovo Daniele presso il Monastero di Pra d’Mill\n\nAperitivo di benvenuto\nLettura del testo\, catechesi e istruzione\nAdorazione e Preghiera personale\nCondivisione nei gruppi guidati\nConclusione \nItinerario vocazionale dedicato ai giovani dai 16 ai 35 anni \n\n 
URL:https://www.pgivrea.it/eventi/apri-gli-occhi-esercizi-spirituali-a-pra-dmill/
LOCATION:Monastero Cistercense Dominus Tecum\, Via Balma Oro\, 1 Loc. Pra 'd Mill\, Bagnolo Piemonte\, CN\, 12031
CATEGORIES:Apri gli occhi,Ufficio
ATTACH;FMTTYPE=image/jpeg:https://www.pgivrea.it/wp-content/uploads/2025/09/Aprigliocchi_logo-01.jpg
END:VEVENT
END:VCALENDAR